Package: plier Version: 1.76.0 Command: /home/biocbuild/R/R/bin/R CMD INSTALL plier StartedAt: 2025-01-30 20:09:02 -0000 (Thu, 30 Jan 2025) EndedAt: 2025-01-30 20:09:26 -0000 (Thu, 30 Jan 2025) EllapsedTime: 24.5 seconds RetCode: 0 Status: OK