Package: plotGrouper Version: 1.24.0 Command: /Library/Frameworks/R.framework/Resources/bin/R CMD INSTALL plotGrouper StartedAt: 2025-02-03 18:13:20 -0500 (Mon, 03 Feb 2025) EndedAt: 2025-02-03 18:13:26 -0500 (Mon, 03 Feb 2025) EllapsedTime: 6.9 seconds RetCode: 0 Status: OK