Package: plotGrouper Version: 1.24.0 Command: /Library/Frameworks/R.framework/Resources/bin/R CMD build --keep-empty-dirs --no-resave-data plotGrouper StartedAt: 2025-01-30 21:52:43 -0500 (Thu, 30 Jan 2025) EndedAt: 2025-01-30 21:53:03 -0500 (Thu, 30 Jan 2025) EllapsedTime: 20.6 seconds RetCode: 0 Status: OK PackageFile: plotGrouper_1.24.0.tar.gz PackageFileSize: 704.3 KiB