Package: plotGrouper Version: 1.24.0 Command: /Library/Frameworks/R.framework/Resources/bin/R CMD check --install=check:plotGrouper.install-out.txt --library=/Library/Frameworks/R.framework/Resources/library --no-vignettes --timings plotGrouper_1.24.0.tar.gz StartedAt: 2025-01-31 08:08:37 -0500 (Fri, 31 Jan 2025) EndedAt: 2025-01-31 08:10:29 -0500 (Fri, 31 Jan 2025) EllapsedTime: 112.0 seconds RetCode: 0 Status: OK CheckDir: plotGrouper.Rcheck Warnings: 0