Package: plotGrouper Version: 1.24.0 Command: /home/biocbuild/bbs-3.20-bioc/R/bin/R CMD build --keep-empty-dirs --no-resave-data plotGrouper StartedAt: 2024-11-19 20:52:23 -0500 (Tue, 19 Nov 2024) EndedAt: 2024-11-19 20:52:30 -0500 (Tue, 19 Nov 2024) EllapsedTime: 7.0 seconds RetCode: 0 Status: OK PackageFile: plotGrouper_1.24.0.tar.gz PackageFileSize: 704.3 KiB