Package: plotgardener Version: 1.12.0 Command: rm -rf plotgardener.buildbin-libdir && mkdir plotgardener.buildbin-libdir && /Users/biocbuild/BBS/utils/build-universal.sh plotgardener_1.12.0.tar.gz /Library/Frameworks/R.framework/Resources/bin/R plotgardener.buildbin-libdir StartedAt: 2025-02-04 13:48:20 -0500 (Tue, 04 Feb 2025) EndedAt: 2025-02-04 13:51:19 -0500 (Tue, 04 Feb 2025) EllapsedTime: 178.8 seconds RetCode: 0 Status: OK PackageFile: plotgardener_1.12.0.tgz PackageFileSize: 3.664 MiB