Package: plotgardener Version: 1.12.0 Command: /Library/Frameworks/R.framework/Resources/bin/R CMD build --keep-empty-dirs --no-resave-data plotgardener StartedAt: 2025-02-03 21:19:15 -0500 (Mon, 03 Feb 2025) EndedAt: 2025-02-03 21:22:06 -0500 (Mon, 03 Feb 2025) EllapsedTime: 170.8 seconds RetCode: 0 Status: OK PackageFile: plotgardener_1.12.0.tar.gz PackageFileSize: 2.848 MiB