Package: plotgardener Version: 1.12.0 Command: /Library/Frameworks/R.framework/Resources/bin/R CMD INSTALL plotgardener StartedAt: 2025-02-03 15:51:07 -0500 (Mon, 03 Feb 2025) EndedAt: 2025-02-03 15:52:58 -0500 (Mon, 03 Feb 2025) EllapsedTime: 111.3 seconds RetCode: 0 Status: OK