Package: plotgardener Version: 1.12.0 Command: /home/biocbuild/bbs-3.20-bioc/R/bin/R CMD build --keep-empty-dirs --no-resave-data --md5 plotgardener StartedAt: 2025-02-03 18:45:01 -0500 (Mon, 03 Feb 2025) EndedAt: 2025-02-03 18:46:07 -0500 (Mon, 03 Feb 2025) EllapsedTime: 66.1 seconds RetCode: 0 Status: OK PackageFile: plotgardener_1.12.0.tar.gz PackageFileSize: 2.737 MiB