Package: plotgardener Version: 1.12.0 Command: /home/biocbuild/bbs-3.20-bioc/R/bin/R CMD INSTALL plotgardener StartedAt: 2025-02-03 15:30:49 -0500 (Mon, 03 Feb 2025) EndedAt: 2025-02-03 15:31:38 -0500 (Mon, 03 Feb 2025) EllapsedTime: 49.0 seconds RetCode: 0 Status: OK