Package: plotgardener Version: 1.12.0 Command: /home/biocbuild/R/R/bin/R CMD check --install=check:plotgardener.install-out.txt --library=/home/biocbuild/R/R/site-library --no-vignettes --timings plotgardener_1.12.0.tar.gz StartedAt: 2025-02-04 09:55:10 -0000 (Tue, 04 Feb 2025) EndedAt: 2025-02-04 10:05:29 -0000 (Tue, 04 Feb 2025) EllapsedTime: 619.8 seconds RetCode: 0 Status: OK CheckDir: plotgardener.Rcheck Warnings: 0