Package: plyinteractions
Version: 1.4.0
Command: /Library/Frameworks/R.framework/Resources/bin/R CMD check --install=check:plyinteractions.install-out.txt --library=/Library/Frameworks/R.framework/Resources/library --no-vignettes --timings plyinteractions_1.4.0.tar.gz
StartedAt: 2025-02-18 07:32:28 -0500 (Tue, 18 Feb 2025)
EndedAt: 2025-02-18 07:42:09 -0500 (Tue, 18 Feb 2025)
EllapsedTime: 580.6 seconds
RetCode: 0
Status: OK
CheckDir: plyinteractions.Rcheck
Warnings: 0