Package: plyinteractions
Version: 1.4.0
Command: /home/biocbuild/bbs-3.20-bioc/R/bin/R CMD INSTALL plyinteractions
StartedAt: 2024-11-19 15:59:16 -0500 (Tue, 19 Nov 2024)
EndedAt: 2024-11-19 15:59:49 -0500 (Tue, 19 Nov 2024)
EllapsedTime: 32.6 seconds
RetCode: 0
Status: OK