Package: plyranges
Version: 1.26.0
Command: /home/biocbuild/R/R/bin/R CMD INSTALL plyranges
StartedAt: 2024-11-19 20:46:30 -0000 (Tue, 19 Nov 2024)
EndedAt: 2024-11-19 20:47:24 -0000 (Tue, 19 Nov 2024)
EllapsedTime: 54.8 seconds
RetCode: 0
Status: OK