Package: plyranges
Version: 1.26.0
Command: /Library/Frameworks/R.framework/Resources/bin/R CMD build --keep-empty-dirs --no-resave-data plyranges
StartedAt: 2024-11-19 18:10:42 -0500 (Tue, 19 Nov 2024)
EndedAt: 2024-11-19 18:11:50 -0500 (Tue, 19 Nov 2024)
EllapsedTime: 67.4 seconds
RetCode: 0
Status: OK
PackageFile: plyranges_1.26.0.tar.gz
PackageFileSize: 1.24 <A href="http://en.wikipedia.org/wiki/MiB" target="_blank">MiB</A>