Package: plyranges Version: 1.26.0 Command: rm -rf plyranges.buildbin-libdir && mkdir plyranges.buildbin-libdir && /Users/biocbuild/BBS/utils/build-universal.sh plyranges_1.26.0.tar.gz /Library/Frameworks/R.framework/Resources/bin/R plyranges.buildbin-libdir StartedAt: 2025-02-04 13:48:37 -0500 (Tue, 04 Feb 2025) EndedAt: 2025-02-04 13:50:44 -0500 (Tue, 04 Feb 2025) EllapsedTime: 127.0 seconds RetCode: 0 Status: OK PackageFile: plyranges_1.26.0.tgz PackageFileSize: 1.546 MiB