Package: plyranges Version: 1.26.0 Command: /Library/Frameworks/R.framework/Resources/bin/R CMD build --keep-empty-dirs --no-resave-data plyranges StartedAt: 2025-02-03 21:19:54 -0500 (Mon, 03 Feb 2025) EndedAt: 2025-02-03 21:22:06 -0500 (Mon, 03 Feb 2025) EllapsedTime: 131.8 seconds RetCode: 0 Status: OK PackageFile: plyranges_1.26.0.tar.gz PackageFileSize: 1.24 MiB