Package: plyranges Version: 1.26.0 Command: /Library/Frameworks/R.framework/Resources/bin/R CMD check --install=check:plyranges.install-out.txt --library=/Library/Frameworks/R.framework/Resources/library --no-vignettes --timings plyranges_1.26.0.tar.gz StartedAt: 2025-02-04 08:05:58 -0500 (Tue, 04 Feb 2025) EndedAt: 2025-02-04 08:16:27 -0500 (Tue, 04 Feb 2025) EllapsedTime: 628.8 seconds RetCode: 0 Status: OK CheckDir: plyranges.Rcheck Warnings: 0