Package: plyranges Version: 1.26.0 Command: /Library/Frameworks/R.framework/Resources/bin/R CMD INSTALL plyranges StartedAt: 2025-02-03 15:39:12 -0500 (Mon, 03 Feb 2025) EndedAt: 2025-02-03 15:40:30 -0500 (Mon, 03 Feb 2025) EllapsedTime: 78.2 seconds RetCode: 0 Status: OK