Package: plyranges Version: 1.26.0 Command: /home/biocbuild/R/R/bin/R CMD build --keep-empty-dirs --no-resave-data plyranges StartedAt: 2025-02-04 01:53:02 -0000 (Tue, 04 Feb 2025) EndedAt: 2025-02-04 01:54:10 -0000 (Tue, 04 Feb 2025) EllapsedTime: 68.1 seconds RetCode: 0 Status: OK PackageFile: plyranges_1.26.0.tar.gz PackageFileSize: 1.299 MiB