Package: plyranges Version: 1.26.0 Command: /home/biocbuild/R/R/bin/R CMD INSTALL plyranges StartedAt: 2025-02-03 20:39:24 -0000 (Mon, 03 Feb 2025) EndedAt: 2025-02-03 20:40:10 -0000 (Mon, 03 Feb 2025) EllapsedTime: 45.5 seconds RetCode: 0 Status: OK