Package: plyxp Version: 1.0.0 Command: /Library/Frameworks/R.framework/Resources/bin/R CMD build --keep-empty-dirs --no-resave-data plyxp StartedAt: 2025-02-04 05:37:52 -0500 (Tue, 04 Feb 2025) EndedAt: 2025-02-04 05:38:44 -0500 (Tue, 04 Feb 2025) EllapsedTime: 52.6 seconds RetCode: 1 Status: ERROR PackageFile: None PackageFileSize: NA