Package: plyxp
Version: 1.0.0
Command: /Library/Frameworks/R.framework/Resources/bin/R CMD check --install=check:plyxp.install-out.txt --library=/Library/Frameworks/R.framework/Resources/library --no-vignettes --timings plyxp_1.0.0.tar.gz
StartedAt: 2024-12-18 05:00:44 -0500 (Wed, 18 Dec 2024)
EndedAt: 2024-12-18 05:04:09 -0500 (Wed, 18 Dec 2024)
EllapsedTime: 205.2 seconds
RetCode: 0
Status: OK
CheckDir: plyxp.Rcheck
Warnings: 0