Package: plyxp Version: 1.0.0 Command: /Library/Frameworks/R.framework/Resources/bin/R CMD INSTALL plyxp StartedAt: 2025-02-03 15:29:27 -0500 (Mon, 03 Feb 2025) EndedAt: 2025-02-03 15:30:05 -0500 (Mon, 03 Feb 2025) EllapsedTime: 37.1 seconds RetCode: 0 Status: OK