Package: plyxp Version: 1.0.0 Command: chmod a+r plyxp -R && F:\biocbuild\bbs-3.20-bioc\R\bin\R.exe CMD build --keep-empty-dirs --no-resave-data plyxp StartedAt: 2025-02-03 21:17:02 -0500 (Mon, 03 Feb 2025) EndedAt: 2025-02-03 21:17:50 -0500 (Mon, 03 Feb 2025) EllapsedTime: 48.4 seconds RetCode: 1 Status: ERROR PackageFile: None PackageFileSize: NA