Package: plyxp Version: 1.0.0 Command: F:\biocbuild\bbs-3.20-bioc\R\bin\R.exe CMD INSTALL plyxp StartedAt: 2025-02-03 16:20:27 -0500 (Mon, 03 Feb 2025) EndedAt: 2025-02-03 16:21:23 -0500 (Mon, 03 Feb 2025) EllapsedTime: 56.4 seconds RetCode: 0 Status: OK