Package: plyxp Version: 1.0.0 Command: /home/biocbuild/R/R/bin/R CMD build --keep-empty-dirs --no-resave-data plyxp StartedAt: 2025-02-04 01:53:23 -0000 (Tue, 04 Feb 2025) EndedAt: 2025-02-04 01:54:14 -0000 (Tue, 04 Feb 2025) EllapsedTime: 51.1 seconds RetCode: 1 Status: ERROR PackageFile: None PackageFileSize: NA