Package: pmm Version: 1.38.0 Command: rm -rf pmm.buildbin-libdir && mkdir pmm.buildbin-libdir && /Users/biocbuild/BBS/utils/build-universal.sh pmm_1.38.0.tar.gz /Library/Frameworks/R.framework/Resources/bin/R pmm.buildbin-libdir StartedAt: 2025-02-05 17:09:09 -0500 (Wed, 05 Feb 2025) EndedAt: 2025-02-05 17:09:18 -0500 (Wed, 05 Feb 2025) EllapsedTime: 9.2 seconds RetCode: 0 Status: OK PackageFile: pmm_1.38.0.tgz PackageFileSize: 809.4 KiB