Package: pmm Version: 1.38.0 Command: /Library/Frameworks/R.framework/Resources/bin/R CMD build --keep-empty-dirs --no-resave-data pmm StartedAt: 2025-02-04 05:38:15 -0500 (Tue, 04 Feb 2025) EndedAt: 2025-02-04 05:38:53 -0500 (Tue, 04 Feb 2025) EllapsedTime: 38.9 seconds RetCode: 0 Status: OK PackageFile: pmm_1.38.0.tar.gz PackageFileSize: 776.3 KiB