Package: pmm Version: 1.38.0 Command: /Library/Frameworks/R.framework/Resources/bin/R CMD check --install=check:pmm.install-out.txt --library=/Library/Frameworks/R.framework/Resources/library --no-vignettes --timings pmm_1.38.0.tar.gz StartedAt: 2025-02-05 05:40:13 -0500 (Wed, 05 Feb 2025) EndedAt: 2025-02-05 05:42:08 -0500 (Wed, 05 Feb 2025) EllapsedTime: 115.8 seconds RetCode: 0 Status: OK CheckDir: pmm.Rcheck Warnings: 0