Package: pmm Version: 1.38.0 Command: /Library/Frameworks/R.framework/Resources/bin/R CMD INSTALL pmm StartedAt: 2025-02-03 15:23:51 -0500 (Mon, 03 Feb 2025) EndedAt: 2025-02-03 15:23:59 -0500 (Mon, 03 Feb 2025) EllapsedTime: 8.1 seconds RetCode: 0 Status: OK