Package: pmm Version: 1.38.0 Command: /Library/Frameworks/R.framework/Resources/bin/R CMD build --keep-empty-dirs --no-resave-data pmm StartedAt: 2025-02-03 21:20:14 -0500 (Mon, 03 Feb 2025) EndedAt: 2025-02-03 21:21:18 -0500 (Mon, 03 Feb 2025) EllapsedTime: 64.5 seconds RetCode: 0 Status: OK PackageFile: pmm_1.38.0.tar.gz PackageFileSize: 776.3 KiB