Package: pmm Version: 1.37.0 Command: rm -rf pmm.buildbin-libdir && mkdir pmm.buildbin-libdir && C:\Users\biocbuild\bbs-3.20-bioc\R\bin\R.exe CMD INSTALL --build --library=pmm.buildbin-libdir pmm_1.37.0.tar.gz StartedAt: 2024-07-16 06:34:30 -0400 (Tue, 16 Jul 2024) EndedAt: 2024-07-16 06:34:40 -0400 (Tue, 16 Jul 2024) EllapsedTime: 9.5 seconds RetCode: 0 Status: OK PackageFile: pmm_1.37.0.zip PackageFileSize: 681.5 KiB