Package: pmm Version: 1.38.0 Command: chmod a+r pmm -R && F:\biocbuild\bbs-3.20-bioc\R\bin\R.exe CMD build --keep-empty-dirs --no-resave-data pmm StartedAt: 2025-02-03 21:17:29 -0500 (Mon, 03 Feb 2025) EndedAt: 2025-02-03 21:17:55 -0500 (Mon, 03 Feb 2025) EllapsedTime: 26.3 seconds RetCode: 0 Status: OK PackageFile: pmm_1.38.0.tar.gz PackageFileSize: 645.9 KiB