Package: pmm Version: 1.38.0 Command: /home/biocbuild/R/R/bin/R CMD INSTALL pmm StartedAt: 2025-02-03 20:27:33 -0000 (Mon, 03 Feb 2025) EndedAt: 2025-02-03 20:27:59 -0000 (Mon, 03 Feb 2025) EllapsedTime: 25.4 seconds RetCode: 0 Status: OK