Package: pmp Version: 1.18.0 Command: /Library/Frameworks/R.framework/Resources/bin/R CMD build --keep-empty-dirs --no-resave-data pmp StartedAt: 2025-02-18 05:34:50 -0500 (Tue, 18 Feb 2025) EndedAt: 2025-02-18 05:36:25 -0500 (Tue, 18 Feb 2025) EllapsedTime: 94.7 seconds RetCode: 0 Status: OK PackageFile: pmp_1.18.0.tar.gz PackageFileSize: 5.169 <A href="http://en.wikipedia.org/wiki/MiB" target="_blank">MiB</A>