Package: pmp Version: 1.18.0 Command: /Library/Frameworks/R.framework/Resources/bin/R CMD check --install=check:pmp.install-out.txt --library=/Library/Frameworks/R.framework/Resources/library --no-vignettes --timings pmp_1.18.0.tar.gz StartedAt: 2025-02-05 05:42:08 -0500 (Wed, 05 Feb 2025) EndedAt: 2025-02-05 05:45:36 -0500 (Wed, 05 Feb 2025) EllapsedTime: 207.3 seconds RetCode: 1 Status: ERROR CheckDir: pmp.Rcheck Warnings: NA