Package: pmp
Version: 1.18.0
Command: /Library/Frameworks/R.framework/Resources/bin/R CMD check --install=check:pmp.install-out.txt --library=/Library/Frameworks/R.framework/Resources/library --no-vignettes --timings pmp_1.18.0.tar.gz
StartedAt: 2024-11-09 09:55:07 -0500 (Sat, 09 Nov 2024)
EndedAt: 2024-11-09 09:59:50 -0500 (Sat, 09 Nov 2024)
EllapsedTime: 283.7 seconds
RetCode: 1
Status: ERROR
CheckDir: pmp.Rcheck
Warnings: NA