Package: pmp Version: 1.18.0 Command: /Library/Frameworks/R.framework/Resources/bin/R CMD build --keep-empty-dirs --no-resave-data pmp StartedAt: 2025-02-03 21:20:17 -0500 (Mon, 03 Feb 2025) EndedAt: 2025-02-03 21:23:21 -0500 (Mon, 03 Feb 2025) EllapsedTime: 184.0 seconds RetCode: 0 Status: OK PackageFile: pmp_1.18.0.tar.gz PackageFileSize: 5.166 MiB