Package: pmp Version: 1.18.0 Command: /Library/Frameworks/R.framework/Resources/bin/R CMD check --install=check:pmp.install-out.txt --library=/Library/Frameworks/R.framework/Resources/library --no-vignettes --timings pmp_1.18.0.tar.gz StartedAt: 2025-02-04 08:06:32 -0500 (Tue, 04 Feb 2025) EndedAt: 2025-02-04 08:13:48 -0500 (Tue, 04 Feb 2025) EllapsedTime: 435.5 seconds RetCode: 0 Status: OK CheckDir: pmp.Rcheck Warnings: 0