Package: pmp Version: 1.18.0 Command: /Library/Frameworks/R.framework/Resources/bin/R CMD INSTALL pmp StartedAt: 2025-02-03 15:57:59 -0500 (Mon, 03 Feb 2025) EndedAt: 2025-02-03 15:58:50 -0500 (Mon, 03 Feb 2025) EllapsedTime: 51.1 seconds RetCode: 0 Status: OK