Package: pmp Version: 1.18.0 Command: /home/biocbuild/bbs-3.20-bioc/R/bin/R CMD INSTALL pmp StartedAt: 2025-02-17 15:35:36 -0500 (Mon, 17 Feb 2025) EndedAt: 2025-02-17 15:35:58 -0500 (Mon, 17 Feb 2025) EllapsedTime: 21.5 seconds RetCode: 0 Status: OK