Package: pmp Version: 1.18.0 Command: rm -rf pmp.buildbin-libdir && mkdir pmp.buildbin-libdir && F:\biocbuild\bbs-3.20-bioc\R\bin\R.exe CMD INSTALL --build --library=pmp.buildbin-libdir pmp_1.18.0.tar.gz StartedAt: 2025-02-04 09:11:55 -0500 (Tue, 04 Feb 2025) EndedAt: 2025-02-04 09:12:36 -0500 (Tue, 04 Feb 2025) EllapsedTime: 41.3 seconds RetCode: 0 Status: OK PackageFile: pmp_1.18.0.zip PackageFileSize: 3.343 MiB