Package: pmp Version: 1.18.0 Command: chmod a+r pmp -R && F:\biocbuild\bbs-3.20-bioc\R\bin\R.exe CMD build --keep-empty-dirs --no-resave-data pmp StartedAt: 2025-02-03 21:17:36 -0500 (Mon, 03 Feb 2025) EndedAt: 2025-02-03 21:21:12 -0500 (Mon, 03 Feb 2025) EllapsedTime: 215.4 seconds RetCode: 0 Status: OK PackageFile: pmp_1.18.0.tar.gz PackageFileSize: 3.072 MiB