Package: pmp Version: 1.18.0 Command: F:\biocbuild\bbs-3.20-bioc\R\bin\R.exe CMD INSTALL pmp StartedAt: 2025-02-03 16:21:20 -0500 (Mon, 03 Feb 2025) EndedAt: 2025-02-03 16:21:50 -0500 (Mon, 03 Feb 2025) EllapsedTime: 29.5 seconds RetCode: 0 Status: OK