Package: pmp Version: 1.18.0 Command: /home/biocbuild/R/R/bin/R CMD build --keep-empty-dirs --no-resave-data pmp StartedAt: 2025-02-04 01:53:34 -0000 (Tue, 04 Feb 2025) EndedAt: 2025-02-04 01:55:28 -0000 (Tue, 04 Feb 2025) EllapsedTime: 114.1 seconds RetCode: 0 Status: OK PackageFile: pmp_1.18.0.tar.gz PackageFileSize: 3.552 MiB