Package: pmp
Version: 1.18.0
Command: /home/biocbuild/R/R/bin/R CMD check --install=check:pmp.install-out.txt --library=/home/biocbuild/R/R/site-library --no-vignettes --timings pmp_1.18.0.tar.gz
StartedAt: 2025-02-18 09:59:55 -0000 (Tue, 18 Feb 2025)
EndedAt: 2025-02-18 10:03:34 -0000 (Tue, 18 Feb 2025)
EllapsedTime: 219.3 seconds
RetCode: 1
Status: ERROR
CheckDir: pmp.Rcheck
Warnings: NA