Package: podkat Version: 1.38.0 Command: rm -rf podkat.buildbin-libdir && mkdir podkat.buildbin-libdir && /Users/biocbuild/BBS/utils/build-universal.sh podkat_1.38.0.tar.gz /Library/Frameworks/R.framework/Resources/bin/R podkat.buildbin-libdir StartedAt: 2025-02-05 17:09:25 -0500 (Wed, 05 Feb 2025) EndedAt: 2025-02-05 17:10:51 -0500 (Wed, 05 Feb 2025) EllapsedTime: 85.7 seconds RetCode: 0 Status: OK PackageFile: podkat_1.38.0.tgz PackageFileSize: 2.377 MiB