Package: podkat Version: 1.38.0 Command: /Library/Frameworks/R.framework/Resources/bin/R CMD build --keep-empty-dirs --no-resave-data podkat StartedAt: 2025-01-31 05:30:16 -0500 (Fri, 31 Jan 2025) EndedAt: 2025-01-31 05:33:27 -0500 (Fri, 31 Jan 2025) EllapsedTime: 191.4 seconds RetCode: 0 Status: OK PackageFile: podkat_1.38.0.tar.gz PackageFileSize: 1.09 MiB