Package: podkat Version: 1.38.0 Command: /Library/Frameworks/R.framework/Resources/bin/R CMD build --keep-empty-dirs --no-resave-data podkat StartedAt: 2025-02-03 21:20:35 -0500 (Mon, 03 Feb 2025) EndedAt: 2025-02-03 21:25:41 -0500 (Mon, 03 Feb 2025) EllapsedTime: 306.6 seconds RetCode: 0 Status: OK PackageFile: podkat_1.38.0.tar.gz PackageFileSize: 1.09 MiB